BEGIN:VCALENDAR
VERSION:2.0
PRODID:-//hacksw/handcal//NONSGML v1.0//EN
BEGIN:VEVENT
DTSTART:20250927T140000
DTEND:20250927T220000
LOCATION:Comme Vous Emoi à Montreuil \n5, rue de la Révolution \n93100 Montreuil
ORGANIZER;CN=Victor Reutenauer - X Urgence Écologique:MAILTO:victor.reutenauer.2002@polytechnique.org
SUMMARY:Festibal EcologiX 2025
DESCRIPTION:Beaucoup d'entre vous nous le réclamaient :Voici le programme du Festi'Bal EcologiX avec de multiples ateliers tous plus intéressants les uns que les autres, ainsi que l'annonce du groupe Owen's...
URL:https://ax.polytechnique.org/fr/group/x-urgence-ecologique/287/calendar/festibal-ecologix-2025/2025/09/27/2459
BEGIN:VALARM
TRIGGER:-P0DT1H0M0S
ACTION:DISPLAY
END:VALARM
END:VEVENT
END:VCALENDAR