BEGIN:VCALENDAR
VERSION:2.0
PRODID:-//hacksw/handcal//NONSGML v1.0//EN
BEGIN:VEVENT
DTSTART:20250611T100000
DTEND:20250611T190000
LOCATION:La Rochelle \n141, Boulevard Emile Delmas \n17000 LA ROCHELLE
ORGANIZER;CN=Dominique de Robillard - X-Mer:MAILTO:dominique.de-robillard@polytechnique.org
SUMMARY:Visite Grand Port Maritime et Mairie de la Rochelle
DESCRIPTION:VENEZ REJOINDRE LES 31 INSCRITS ...\n... à la rencontre du Port et de la Cité de la Rochelle: les enjeux environnementaux du GPM, décarbonation, énergie éolienne, partenariats...
URL:https://ax.polytechnique.org/fr/group/x-mer/90/calendar/visite-grand-port-maritime-et-mairie-de-la-rochelle/2025/06/11/2529
BEGIN:VALARM
TRIGGER:-P0DT1H0M0S
ACTION:DISPLAY
END:VALARM
END:VEVENT
END:VCALENDAR