BEGIN:VCALENDAR
VERSION:2.0
PRODID:-//hacksw/handcal//NONSGML v1.0//EN
BEGIN:VEVENT
DTSTART:20251205T123000
DTEND:20251205T143000
LOCATION:Maison des X \n12, Rue de Poitiers \n75007 PARIS
ORGANIZER;CN=Leila Bassou - X-Finance:MAILTO:leila.bassou.2016@polytechnique.org
SUMMARY:Déjeuner X-Finance avec Renaud Dumora, Directeur Général Adjoint de BNP Paribas et responsable du pôle Investment & Protection Services (IPS)
DESCRIPTION:Chers tous,Nous aurons le plaisir de recevoir, le vendredi 5 décembre 2025, autour d’un déjeuner à la Maison des X, Renaud Dumora, Directeur Général Adjoint de BNP Paribas et responsable du pôle...
URL:https://ax.polytechnique.org/fr/group/x-finance/89/calendar/dejeuner-x-finance-avec-renaud-dumora-directeur-general-adjoint-de-bnp-paribas-et-responsable-du-pole-investment-protection-services-ips/2025/12/05/2599
BEGIN:VALARM
TRIGGER:-P0DT1H0M0S
ACTION:DISPLAY
END:VALARM
END:VEVENT
END:VCALENDAR