BEGIN:VCALENDAR
VERSION:2.0
PRODID:-//hacksw/handcal//NONSGML v1.0//EN
BEGIN:VEVENT
DTSTART:20250916T141500
DTEND:20250916T194500
LOCATION:Muma \n2 boulevard Clemenceau \n76600 LE HAVRE
ORGANIZER;CN=Dominique de Robillard - X-Mer:MAILTO:dominique.de-robillard@polytechnique.org
SUMMARY:De l'esthétique transatlantique à l'architecture navale
DESCRIPTION:https://my.weezevent.com/de-lesthetique-transatlantique-a-larchitecture-navale-le-HavreDe l'esthétique transatlantique à l'architecture navale, 16 septembre 2025:Illustrations et réflexions autour des...
URL:https://ax.polytechnique.org/fr/group/x-mer/90/calendar/de-l-esthetique-transatlantique-a-l-architecture-navale/2025/09/16/2637
BEGIN:VALARM
TRIGGER:-P0DT1H0M0S
ACTION:DISPLAY
END:VALARM
END:VEVENT
END:VCALENDAR