BEGIN:VCALENDAR
VERSION:2.0
PRODID:-//hacksw/handcal//NONSGML v1.0//EN
BEGIN:VEVENT
DTSTART:20251126T180000
DTEND:20251126T213000
LOCATION:Hôtel Dieu \n1, Parvis Notre Dame - Place Jean-Paul II \n75004 PARIS
ORGANIZER;CN=Anne Walrafen - X Santé Biotech:MAILTO:anne.ravary.1995@polytechnique.org
SUMMARY:Colloque annuel X-Santé-Biotech : La santé à l'ère de l'IA
DESCRIPTION:De la découverte biologique au suivi clinique - l’exemple de l’oncologie comme terrain d’innovation.L'IA transforme nos vies et tous les métiers à grande vitesse. La santé est concernée en première...
URL:https://ax.polytechnique.org/fr/group/x-sante-biotech/201/calendar/colloque-annuel-x-sante-biotech-la-sante-a-l-ere-de-l-ia/2025/11/26/2725
BEGIN:VALARM
TRIGGER:-P0DT1H0M0S
ACTION:DISPLAY
END:VALARM
END:VEVENT
END:VCALENDAR