BEGIN:VCALENDAR
VERSION:2.0
PRODID:-//hacksw/handcal//NONSGML v1.0//EN
BEGIN:VEVENT
DTSTART:20181013T103000
DTEND:20181013T173000
LOCATION:Ecole Polytechnique  \nRoute de saclay \n91120 PALAISEAU
ORGANIZER;CN=Association des anciens élèves et diplômés de l'Ecole polytechnique:MAILTO:anne.maginot.ax@gmail.com
SUMMARY:Parrainage des élèves internationaux
DESCRIPTION:Chers marraines et parrains,\nMerci de votre participation au déjeuner parrainage du samedi 13 octobre 2018 au bord du lac de l’X. Selon la tradition chaque parrain ou marraine pourra venir...
URL:https://ax.polytechnique.org/fr/event/parrainage-des-eleves-internationaux/2018/10/13/275
BEGIN:VALARM
TRIGGER:-P0DT1H0M0S
ACTION:DISPLAY
END:VALARM
END:VEVENT
END:VCALENDAR