BEGIN:VCALENDAR
VERSION:2.0
PRODID:-//hacksw/handcal//NONSGML v1.0//EN
BEGIN:VEVENT
DTSTART:20251216T190000
DTEND:20251216T213000
LOCATION:Forum 104 \n104, Rue de Vaugirard \n75006 PARIS
ORGANIZER;CN=Alain Goyé - X-Solidarités:MAILTO:alain.goye@m4x.org
SUMMARY:Rencontre avec Charles-Édouard Vincent, X91, serial entrepreneur social, fondateur de Lulu dans ma rue
DESCRIPTION:X-Solidarités a le plaisir de vous convier à une conférence le 16 décembre 2025 en présence de Charles-Édouard Vincent, X 91 et entrepreneur engagé.👉 Après quelques années dans la Silicon Valley,...
URL:https://ax.polytechnique.org/fr/group/x-solidarites/28/calendar/rencontre-avec-charles-edouard-vincent-x91-serial-entrepreneur-social-fondateur-de-lulu-dans-ma-rue/2025/12/16/2752
BEGIN:VALARM
TRIGGER:-P0DT1H0M0S
ACTION:DISPLAY
END:VALARM
END:VEVENT
END:VCALENDAR