BEGIN:VCALENDAR
VERSION:2.0
PRODID:-//hacksw/handcal//NONSGML v1.0//EN
BEGIN:VEVENT
DTSTART:20260209T123000
DTEND:20260209T143000
LOCATION:Maison des X \n12, Rue de Poitiers \n75007 PARIS
ORGANIZER;CN=Leila Bassou - X-Finance:MAILTO:leila.bassou.2016@polytechnique.org
SUMMARY:Déjeuner X-Finance avec Xavier Durand, Directeur Général (CEO) de Coface
DESCRIPTION:Chers tous,Nous aurons le plaisir de recevoir, le lundi 9 février 2026, autour d’un déjeuner à la Maison des X, Xavier Durand, Directeur Général (CEO) de Coface. Les inscriptions seront acceptées...
URL:https://ax.polytechnique.org/fr/group/x-finance/89/calendar/dejeuner-x-finance-avec-xavier-durand-directeur-general-ceo-de-coface/2026/02/09/2768
BEGIN:VALARM
TRIGGER:-P0DT1H0M0S
ACTION:DISPLAY
END:VALARM
END:VEVENT
END:VCALENDAR