BEGIN:VCALENDAR
VERSION:2.0
PRODID:-//hacksw/handcal//NONSGML v1.0//EN
BEGIN:VEVENT
DTSTART:20260316T123000
DTEND:20260316T143000
LOCATION:Maison des X \n12, Rue de Poitiers \n75007 PARIS
ORGANIZER;CN=Leila Bassou - X-Finance:MAILTO:leila.bassou.2016@polytechnique.org
SUMMARY:Déjeuner X-Finance avec Jean-Louis Girodolle, Directeur Général (CEO) de Lazard Frères en France et co-responsable de la banque d’affaires au niveau européen
DESCRIPTION:Chers tous,Nous aurons le plaisir de recevoir, le lundi 16 mars 2026, autour d’un déjeuner à la Maison des X, Jean-Louis Girodolle, Directeur Général (CEO) de Lazard Frères en France et co-responsable...
URL:https://ax.polytechnique.org/fr/group/x-finance/89/calendar/dejeuner-x-finance-avec-jean-louis-girodolle-directeur-general-ceo-de-lazard-freres-en-france-et-co-responsable-de-la-banque-d-affaires-au-niveau-europeen/2026/03/16/2777
BEGIN:VALARM
TRIGGER:-P0DT1H0M0S
ACTION:DISPLAY
END:VALARM
END:VEVENT
END:VCALENDAR