BEGIN:VCALENDAR
VERSION:2.0
PRODID:-//hacksw/handcal//NONSGML v1.0//EN
BEGIN:VEVENT
DTSTART:20260511T123000
DTEND:20260511T143000
LOCATION:Maison des X \n12, Rue de Poitiers \n75007 PARIS
ORGANIZER;CN=Leila Bassou - X-Finance:MAILTO:leila.bassou.2016@polytechnique.org
SUMMARY:Déjeuner X-Finance avec Laurent Mignon, Président du Directoire de Wendel
DESCRIPTION:Chers tous,Nous aurons le plaisir de recevoir, le lundi 11 mai 2026, autour d’un déjeuner à la Maison des X, Laurent Mignon, Président du Directoire de Wendel.Les inscriptions seront acceptées jusqu'à...
URL:https://ax.polytechnique.org/fr/group/x-finance/89/calendar/dejeuner-x-finance-avec-laurent-mignon-president-du-directoire-de-wendel/2026/05/11/2799
BEGIN:VALARM
TRIGGER:-P0DT1H0M0S
ACTION:DISPLAY
END:VALARM
END:VEVENT
END:VCALENDAR