BEGIN:VCALENDAR
VERSION:2.0
PRODID:-//hacksw/handcal//NONSGML v1.0//EN
BEGIN:VEVENT
DTSTART:20181015T193000
DTEND:20181015T230000
LOCATION:Pavillon Gabriel \n5, Avenue Gabriel \n75008 PARIS
ORGANIZER;CN=Olivier Herz - X-Israël:MAILTO:olivier.herz@polytechnique.org
SUMMARY:Gala Scopus 2018 avec Carlos Ghosn  (1974)
DESCRIPTION:MESSAGE DE L'UHJ-FRANCE\nNous avons le plaisir de vous convier au Gala Scopus 2018, le lundi 15 octobre, au cours duquel nous célèbrerons les 100 ans de l'Université hébraïque de Jérusalem.\nLe Prix...
URL:https://ax.polytechnique.org/fr/group/x-israel/55/calendar/-gala-scopus-2018-avec-carlos-ghosn-1974/2018/10/15/282
BEGIN:VALARM
TRIGGER:-P0DT1H0M0S
ACTION:DISPLAY
END:VALARM
END:VEVENT
END:VCALENDAR