BEGIN:VCALENDAR
VERSION:2.0
PRODID:-//hacksw/handcal//NONSGML v1.0//EN
BEGIN:VEVENT
DTSTART:20260105T190000
DTEND:20260105T200000
LOCATION:Maison des Polytechniciens \n12, Rue de Poitiers \n75007 PARIS
ORGANIZER;CN=Alexis Hernot - X Santé Biotech:MAILTO:alexis.hernot.1991@polytechnique.org
SUMMARY:Franck Mouthon  INSERM -  Comment faire entrer la planification stratégique en santé dans les priorités du décideur
DESCRIPTION:Bonjour à tous ! \nX-Santé Biotech poursuit son cycle de réunions autour de l’innovation en santé Pour cette nouvelle soirée, nous aurons le plaisir d’accueillir Franck Mouthon  - Directeur de...
URL:https://ax.polytechnique.org/fr/group/x-sante-biotech/201/calendar/franck-mouthon-inserm-comment-faire-entrer-la-planification-strategique-en-sante-dans-les-priorites-du-decideur/2026/01/05/2837
BEGIN:VALARM
TRIGGER:-P0DT1H0M0S
ACTION:DISPLAY
END:VALARM
END:VEVENT
END:VCALENDAR