BEGIN:VCALENDAR
VERSION:2.0
PRODID:-//hacksw/handcal//NONSGML v1.0//EN
BEGIN:VEVENT
DTSTART:20260430T163000
DTEND:20260503T140000
LOCATION:Parc de Fierbois \nParc de Fierbois \n37800 SAINTE-CATHERINE-DE-FIERBOIS
ORGANIZER;CN=Vincent Rabaron - X Urgence Écologique:MAILTO:vincent.rabaron.2002@polytechnique.org
SUMMARY:Rencontres de printemps X-UE 2026 - du 30 avril au 3 Mai au Parc de Fierbois
DESCRIPTION:Les cinquièmes rencontres de printemps auront lieu en Touraine, dans le Parc de Fierbois, où Christine (X82) nous accueille de nouveau !\nPour l'ensemble des détails pratiques, c'est ici. (EDIT : si...
URL:https://ax.polytechnique.org/fr/group/x-urgence-ecologique/287/calendar/rencontres-de-printemps-x-ue-2026-du-30-avril-au-3-mai-au-parc-de-fierbois/2026/04/30/2886
BEGIN:VALARM
TRIGGER:-P0DT1H0M0S
ACTION:DISPLAY
END:VALARM
END:VEVENT
END:VCALENDAR