BEGIN:VCALENDAR
VERSION:2.0
PRODID:-//hacksw/handcal//NONSGML v1.0//EN
BEGIN:VEVENT
DTSTART:20260313T131500
DTEND:20260313T160000
LOCATION:Centre d'instruction Navale \nAvenue de l'École Navale \n29200 BREST
ORGANIZER;CN=Mikael Dautrey - X-Bretagne:MAILTO:mikael.dautrey.1992@polytechnique.org
SUMMARY:Visite des simulateurs de SNLE
DESCRIPTION:Le 13 mars à 13h au centre d'instruction navale à Brest, le Vice-amiral d’escadre Xavier Petit,  commandant les forces sous-marines et la force océanique stratégique, nous fait l'honneur de nous...
URL:https://ax.polytechnique.org/fr/group/x-bretagne/187/calendar/visite-des-simulateurs-de-snle/2026/03/13/2894
BEGIN:VALARM
TRIGGER:-P0DT1H0M0S
ACTION:DISPLAY
END:VALARM
END:VEVENT
END:VCALENDAR