BEGIN:VCALENDAR
VERSION:2.0
PRODID:-//hacksw/handcal//NONSGML v1.0//EN
BEGIN:VEVENT
DTSTART:20260525T160000
DTEND:20260525T170000
LOCATION:Norvège
ORGANIZER;CN=Corinne Rouillard - GPX:MAILTO:gpx.gestion@gmail.com
SUMMARY:A la recherche des aurores boréales, en Norvège, du 1er au 8 mars 2027 - Inscriptions ouvertes !
DESCRIPTION:Croisière à bord du MS Havila Pollux et accompagnement par un conférencier Plein Cap Une semaine de navigation pour rejoindre le nord de la Norvège, avec la découverte des plus grandes villes et cités...
URL:https://ax.polytechnique.org/fr/group/gpx/35/calendar/a-la-recherche-des-aurores-boreales-en-norvege-du-1er-au-8-mars-2027-inscriptions-ouvertes/2026/05/25/2910
BEGIN:VALARM
TRIGGER:-P0DT1H0M0S
ACTION:DISPLAY
END:VALARM
END:VEVENT
END:VCALENDAR