BEGIN:VCALENDAR
VERSION:2.0
PRODID:-//hacksw/handcal//NONSGML v1.0//EN
BEGIN:VEVENT
DTSTART:20260625T190000
DTEND:20260625T210000
LOCATION:Paris centre - à préciser
ORGANIZER;CN=Gleb Simanov - X Santé Biotech:MAILTO:gleb.simanov.fr@gmail.com
SUMMARY:Apéro annuel X Santé Biotech
DESCRIPTION:X Santé Biotech a plaisir de t'inviter pour un apéro pour bien démarrer la saison estivale !\nViens échanger de manière informelle, rencontrer la communauté et identifier de nouvelles...
URL:https://ax.polytechnique.org/fr/group/x-sante-biotech/201/calendar/apero-annuel-x-sante-biotech/2026/06/25/2985
BEGIN:VALARM
TRIGGER:-P0DT1H0M0S
ACTION:DISPLAY
END:VALARM
END:VEVENT
END:VCALENDAR