BEGIN:VCALENDAR
VERSION:2.0
PRODID:-//hacksw/handcal//NONSGML v1.0//EN
BEGIN:VEVENT
DTSTART:20260429T140000
DTEND:20260429T180000
LOCATION:Port de Dunkerque
ORGANIZER;CN=Denis Cheve - X-Nord Pas-de-Calais:MAILTO:denis.cheve.1981@polytechnique.org
SUMMARY:CHTIX - Visite du Port de Dunkerque 29 avril
DESCRIPTION:Déroulé de la visite :- 14.30 : intervention de Patrick Vergriete (89), Maire de Dunkerque et président de la CUD, et Maurice Georges (Président du GMPD), sur le lien entre modernisation des...
URL:https://ax.polytechnique.org/fr/group/x-nord-pas-de-calais/194/calendar/chtix-visite-du-port-de-dunkerque-29-avril/2026/04/29/2995
BEGIN:VALARM
TRIGGER:-P0DT1H0M0S
ACTION:DISPLAY
END:VALARM
END:VEVENT
END:VCALENDAR