BEGIN:VCALENDAR
VERSION:2.0
PRODID:-//hacksw/handcal//NONSGML v1.0//EN
BEGIN:VEVENT
DTSTART:20261108T100000
DTEND:20261113T110000
LOCATION:Rome
ORGANIZER;CN=Franck Cohet - X-Bordelais:MAILTO:franck.cohet.1980@polytechnique.org
SUMMARY:X-Bordelais : Escapade à Rome le 08/11/2026
DESCRIPTION:Nous te convions à un séjour à Rome du 8 au 13 novembre 2026 mêlant des visites de sites emblématiques comme le forum et le Colisée et celles de trésors méconnus de la ville éternelle et de ses...
URL:https://ax.polytechnique.org/fr/group/x-bordelais/54/calendar/x-bordelais-escapade-a-rome-le-08-11-2026/2026/11/08/3000
BEGIN:VALARM
TRIGGER:-P0DT1H0M0S
ACTION:DISPLAY
END:VALARM
END:VEVENT
END:VCALENDAR