BEGIN:VCALENDAR
VERSION:2.0
PRODID:-//hacksw/handcal//NONSGML v1.0//EN
BEGIN:VEVENT
DTSTART:20191104T130000
DTEND:20191105T180000
LOCATION:Palais des Congres  \n2 place de la Porte Maillot \n75017 Paris
ORGANIZER;CN=Anne Maginot:MAILTO:anne.maginot.ax@gmail.com
SUMMARY:AX-Chine & Huawei Eco-Connect Europe 2019
DESCRIPTION:Huawei Eco-Connect Europe 2019 - 华为2019欧洲生态-连接大会\nFrom November 4th to November 5th, Huawei is going to hold the 2019 Huawei Eco-Connect Europe at the "Palais des Congrès" in Paris. As the exclusive...
URL:https://ax.polytechnique.org/fr/event/ax-chine-huawei-eco-connect-europe-2019/2019/11/04/660
BEGIN:VALARM
TRIGGER:-P0DT1H0M0S
ACTION:DISPLAY
END:VALARM
END:VEVENT
END:VCALENDAR