BEGIN:VCALENDAR
VERSION:2.0
PRODID:-//hacksw/handcal//NONSGML v1.0//EN
BEGIN:VEVENT
DTSTART:20200302T081500
DTEND:20200302T094500
LOCATION:Le Marly \n54, Avenue du Roule \n92200 NEUILLY-SUR-SEINE
ORGANIZER;CN=Laurent Daniel - X Sursaut:MAILTO:laurent.daniel.1996@polytechnique.org
SUMMARY:(1er) Café économique de X-Sursaut
DESCRIPTION:Chers camarades,X-Sursaut lance ses cafés économiques. Ces événements seront l'occasion pour un ou deux orateurs de présenter leurs derniers travaux et leurs avis sur l'actualité économique.Au cours...
URL:https://ax.polytechnique.org/fr/group/x-sursaut/33/calendar/-1er-cafe-economique-de-x-sursaut/2020/03/02/760
BEGIN:VALARM
TRIGGER:-P0DT1H0M0S
ACTION:DISPLAY
END:VALARM
END:VEVENT
END:VCALENDAR